BEGIN:VCALENDAR
METHOD:PUBLISH
VERSION:2.0
BEGIN:VEVENT
DTSTART:20231004T183000
DTEND:20231004T203000
DTSTAMP:20260421T120500
SUMMARY:Towards EMU 2.0: Hindsight and Prospects
DESCRIPTION:A Bridge Forum Dialogue\n\nEconomic and Monetary Union (EMU) marked a major step in the European integration history. Inspired by the Werner Report (1970) and the ideas of Robert Triffin, based on the Delors Report (1989) and following the design laid out in the Maastricht Treaty (1992), EMU implies the coordination of economic and fiscal policies, a common monetary policy, and the euro as a single currency, which is shared by 20 EU Member State (the euro area). The euro ranks second in the international monetary system, behind the US dollar. However, EMU remains incomplete. The financial crisis (2008) has reopened the debate on the asymmetrical nature of EMU and the prudential supervision in the EU, and the Larosière Report (2009) set out guidelines for improving the European regulatory architecture and prudential framework, including the creation of the European Financial Stability (EFS) (2010) and European Stability Mechanism (ESM) (2012) which mission is to safeguard financial stability in Europe by providing financial assistance to countries of the euro area. The two institutions, led since December 2022 by Pierre Gramegna, have a different governance structure but share the same staff and offices located in Luxembourg.\n\nAt this Bridge Forum Dialogue Conference, Jacques de Larosière and Pierre Gramegna will share their insights on the major challenges and issues facing EMU and will explore new path of action for the future in the light of reforms adopted since the euro area crisis. The keynote speakers will interact with the audience during a Q&A session moderated by Bernard Snoy (President of Robert Triffin International).\n\nOn this same occasion will be presented the book ‘Robert Triffin: A Life' co-authored by Ivo Maes and Ilaria Pasotti.\n\nKeynote speakers\n\nJacques de Larosière\n\nFormer Governor of the Banque de France\nFormer Managing Director of the International Monetary Fund (IMF)\n\nPierre Gramegna\n\nManaging Director of the European Stability Mechanism (ESM)\n\nPresentation of the book "Robert Triffin: A Life" by authors\n\nIvo Maes\n\nProfessor and Robert Triffin Chair at UC Louvain\nFormer Former Senior Adviser at the National Bank of Belgium\n\nIlaria Pasotti\n\nConsultant at Intesa Sanpaolo Group Historical Archives\n\nSpeakers\n\nProf. Catherine Léglu\n\nVice-Rector for Academic Affairs\nUniversity of Luxembourg\n\nBernard Snoy\n\nChairman of Robert Triffin International\nHonorary Chairman of the European League for Economic Cooperation (ELEC)\nFormer Executive Director of the World Bank\n\nDr Elena Danescu\n\nResearch Scientist at the Luxembourg Centre for Contemporary and Digital History (C²DH)\nCoordinator of Europe Direct at the University of Luxembourg\n\nLocation: https://www.neimenster.lu/acces/#discoverContent\nRead more: https://www.uni.lu/en/events/towards-emu-2-0-hindsight-and-prospects/
UID:UL-16310
LOCATION:José Ensch Hall at Neumünster Abbey - 
rue Münster 28 2160 Luxembourg Luxembourg
URL:https://www.uni.lu/en/events/towards-emu-2-0-hindsight-and-prospects/
X-MS-OLK-AUTOFILLLOCATION:FALSE
END:VEVENT
END:VCALENDAR