BEGIN:VCALENDAR
METHOD:PUBLISH
VERSION:2.0
BEGIN:VEVENT
DTSTART:20260314T090000
DTEND:20260314T170000
DTSTAMP:20260419T165300
SUMMARY:Open Day 2026
DESCRIPTION:Explore the University of Luxembourg at our Open Day!\n\nJoin us for our Open Day to explore our study programmes, take a tour of our state-of-the-art campus in Belval, and chat to current students and teaching staff.\nWhether you're a future student, a parent, or just interested in learning more about our University, come and see everything we have to offer!\n\nLocation: https://www.uni.lu/en/about/campuses/belval-campus/\nRead more: https://www.uni.lu/en/events/open-day/
UID:UL-22278
LOCATION:Campus Belval 4365 Luxembourg Luxembourg
URL:https://www.uni.lu/en/events/open-day/
X-MS-OLK-AUTOFILLLOCATION:FALSE
END:VEVENT
END:VCALENDAR