BEGIN:VCALENDAR
METHOD:PUBLISH
VERSION:2.0
BEGIN:VEVENT
DTSTART:20260205T120000
DTEND:20260205T140000
DTSTAMP:20260423T140100
SUMMARY:Virtual Master’s Day 2026
DESCRIPTION:Explore your Master’s options online\n\nJoin the University of Luxembourg online to learn more about our Master’s programmes and find the path that fits your academic and professional goals.\n\nWhat to expect at our Virtual Master’s Day\n\nAttend live presentations led by our programme directors, teaching staff, and student services teams to learn about:\n\nAdmissions and student life\n\nGet step-by-step guidance on the admissions process\n\nExplore student housing options\n\nDiscover support services, extracurricular activities, and campus life\n\nYour Master’s options\n\nLearn about programme content, objectives, and the skills you will develop\n\nUnderstand the admission requirements and how to meet them\n\nFind out the language of instruction for each programme\n\nExplore career opportunities after graduation\n\nLive, interactive sessions\n\nEach live session ends with a Q&A, giving you the chance to ask questions and get personalised answers\n\nDiscover the University\n\nRegister\n\nRegister for free and start shaping your future at the University of Luxembourg.\n\nLocation: https://www.uni.lu/en/education/discover-the-university/masters-day/masters/\nRead more: https://www.uni.lu/en/events/masters-day/
UID:UL-54283
LOCATION:Online Master’s Day presentations
URL:https://www.uni.lu/en/events/masters-day/
X-MS-OLK-AUTOFILLLOCATION:FALSE
END:VEVENT
END:VCALENDAR