BEGIN:VCALENDAR
METHOD:PUBLISH
VERSION:2.0
BEGIN:VEVENT
DTSTART:20251007T180000
DTEND:20251007T210000
DTSTAMP:20260423T064700
SUMMARY:Luxembourg's AI Strategy - Accelerating Digital Sovereignty 2030?
DESCRIPTION:AI Café 2025: Public Debate & Networking\nLuxembourg's AI Strategy - Accelerating Digital Sovereignty 2030?\n\nHow can Artificial Intelligence support a future that’s innovative, inclusive, and sovereign?\n\nJoin us for an engaging Public Debate & Networking Evening as part of AI Café 2025, where we’ll explore the role of AI in shaping Luxembourg’s digital future — inspired by the national AI strategy “Accelerating Digital Sovereignty 2030”.\n\nThis event invites citizens, students, researchers, and professionals to reflect on the opportunities and challenges of AI in our daily lives and society at large. Expect a lively exchange of ideas and diverse perspectives.\n\nCercle Cité, Luxembourg\n\nNo conference fees\n\nRegistration mandatory\n\n7 October 2025\n\nEnglish, French, German\n\nWhat to expect\n\nA moderated public debate on AI and digital sovereignty with a panel of experts\n\nOpen Q&A and audience interaction\n\nInformal networking to continue the conversation\n\nMeet the panel of experts\n\nDr. Enzo Lefevre Cervini\n\nEuropean Commission\n\nDr. Maxime Derian\n\nRAG.lu, Linkedin influencer\n\nJean-Paul Bertemes\n\nScience.lu, FNR\n\nDr. Nina Hosseini-Kivanani\n\nRTL\n\nProf. Dr. Charles Lang\n\nColumbia University, Digital Futures Institute, Teacher's College, New York\n\nMeet the moderator and the host\n\nThe moderator:\n\nLisa Burke\n\nThe host:\n\nAssoc. Prof Christoph SCHOMMER\n\nAssociate professor in Artificial Intelligence\n\nLearn more\n\nRegister for the event\n\nThe event is free but registration is required. Contact the organisers to register:\n\nLocation: https://maps.app.goo.gl/74BMrJHFF7B16kwP6\nRead more: https://www.uni.lu/en/events/luxembourgs-ai-strategy-accelerating-digital-sovereignty-2030/
UID:UL-45786
LOCATION:Cercle Cité - Auditoire Cité 3 - Rue Genistre 1623  Ville-Haute - Luxembourg Luxembourg
URL:https://www.uni.lu/en/events/luxembourgs-ai-strategy-accelerating-digital-sovereignty-2030/
X-MS-OLK-AUTOFILLLOCATION:FALSE
END:VEVENT
END:VCALENDAR