BEGIN:VCALENDAR
METHOD:PUBLISH
VERSION:2.0
BEGIN:VEVENT
DTSTART:20251210T160000
DTEND:20251210T173000
DTSTAMP:20260420T193800
SUMMARY:Cérémonie de Remise des Diplômes -  Etudes Spécialisées en Médecine
DESCRIPTION:Cérémonie de Remise des Diplômes -  Etudes Spécialisées en Médecine\n\nDate: 10/12\n\n16.00 - 17.30\n\nMaison du Savoir\nGrand Auditoire (-1)\nBelval Campus (Esch-sur-Alzette)\n\nLocation: https://www.uni.lu/en/about/campuses/belval-campus/#maison-du-savoir\nRead more: https://www.uni.lu/en/events/fstm-medecine-masters-graduation-2025/
UID:UL-51750
LOCATION:Maison du Savoir 2 - place de l’Université 4365 Belval Luxembourg
URL:https://www.uni.lu/en/events/fstm-medecine-masters-graduation-2025/
X-MS-OLK-AUTOFILLLOCATION:FALSE
END:VEVENT
END:VCALENDAR