BEGIN:VCALENDAR
METHOD:PUBLISH
VERSION:2.0
BEGIN:VEVENT
DTSTART:20251209T150000
DTEND:20251209T163000
DTSTAMP:20260421T024700
SUMMARY:FSTM Masters Graduation 2025
DESCRIPTION:Masters Graduation Ceremony of the Faculty of Science, Technology and Medicine\n\nThe long-awaited moment has arrived: the Masters Graduation Ceremony of the Faculty of Science, Technology and Medicine (FSTM) will soon take place, marking a significant milestone in the academic journey of our graduating students.\n\nThe event will bring together graduates, faculty, families and friends to celebrate this achievement!\n\nDate: 9/12\n\n15.00 - 16.30\n\nMaison du Savoir\nGrand Auditoire (-1)\nBelval Campus (Esch-sur-Alzette)\n\nLocation: https://www.uni.lu/en/about/campuses/belval-campus/#maison-du-savoir\nRead more: https://www.uni.lu/en/events/fstm-masters-graduation-2025/
UID:UL-51746
LOCATION:Maison du Savoir 2 - place de l’Université 4365 Belval Luxembourg
URL:https://www.uni.lu/en/events/fstm-masters-graduation-2025/
X-MS-OLK-AUTOFILLLOCATION:FALSE
END:VEVENT
END:VCALENDAR