BEGIN:VCALENDAR
METHOD:PUBLISH
VERSION:2.0
BEGIN:VEVENT
DTSTART:20251209T110000
DTEND:20251209T123000
DTSTAMP:20260421T024700
SUMMARY:FSTM Bachelors Graduation 2025
DESCRIPTION:Bachelors Graduation Ceremony of the Faculty of Science, Technology and Medicine\n\nThe long-awaited moment has arrived: the Bachelors Graduation Ceremony of the Faculty of Science, Technology and Medicine (FSTM) and Certificat en Management pour le secteur hospitalier et de la santé of the University of Luxembourg Competence Centre (ULCC) will soon take place, marking a significant milestone in the academic journey of our graduating students.\n\nThe event will bring together graduates, faculty, families and friends to celebrate this achievement!\n\nDate: 9/12\n\n11.00 - 12.30\n\nMaison du Savoir\nGrand Auditoire (-1)\nBelval Campus (Esch-sur-Alzette)\n\nLocation: https://www.uni.lu/en/about/campuses/belval-campus/#maison-du-savoir\nRead more: https://www.uni.lu/en/events/fstm-bachelors-graduation-2025/
UID:UL-51742
LOCATION:Maison du Savoir 2 - place de l’Université 4365 Belval Luxembourg
URL:https://www.uni.lu/en/events/fstm-bachelors-graduation-2025/
X-MS-OLK-AUTOFILLLOCATION:FALSE
END:VEVENT
END:VCALENDAR