BEGIN:VCALENDAR
METHOD:PUBLISH
VERSION:2.0
BEGIN:VEVENT
DTSTART:20241125T190000
DTEND:20241125T203000
DTSTAMP:20260422T131500
SUMMARY:Breathing Underwater, a film by Eric Lamhène
DESCRIPTION:The Gender Equality Office of the University of Luxembourg invites you to a screening of the film Breathing Underwater, directed by Eric Lamhène (The film duration is 100min and it will be screened in French with English and German subtitles). This event, held as part of the Orange Weeks, aims to raise awareness on gender-based violence. Tickets are available for University staff and students. To claim a ticket, please fill-out this form.\n\n“Utopia Takeover”\n\nThe 25 November is the United Nations designated day for the elimination of violence against women and girls.\n\nAs part of Orange Week 2024 in Luxembourg different entities including the University of Luxembourg are coming together to brazenly take over the narrative of every single cinema screen of Ciné Utopia, putting the spotlight on the topic of domestic violence. \n\nOn this special evening , the exterior of the cinema will be bathed in Orange and every screen in this cinema will feature “Breathing Underwater”- an emotional, character-driven drama set in the world of a women’s shelter. It is a film of hope, solidarity and strength that takes us into the lives of Emma, Khadij, Esperanza and Sascha.\n\nAfter the screenings, the cinema audience will be invited to a reception, hosted right next door at Porta Nova. There, participating organisations will have information booths set up to raise awareness, share their good work, strike up great conversations and build their networks.\n\nAs a sign of solidarity to mark Orange Week, the audience are encouraged to come dressed with a touch of orange.\n\nSynopsis\nBreathing Underwater tells the story of Emma, who is whisked away in the dead of night, covered in bruises and unexpectedly pregnant. As she grapples with her pregnancy and her emotional shackles to her husband Marc, Emma rediscovers lost facets of herself through her unlikely camaraderie and strife with the women and children of the shelter.\nIndividual traumas intertwine and despite their differences, a delicate sisterhood emerges as they push one another to fight for their self-worth and independence.\n\nFor questions please contact gender.equality@uni.lu\n\nLocation: https://kinepolis.lu/fr/cinemas/cine-utopia/info/\nRead more: https://www.uni.lu/en/events/breathing-underwater-a-film-by-eric-lamhene/
UID:UL-37438
LOCATION:Ciné Utopia - Room 2 Ciné Utopia avenue de la faïencerie 16 1510 Luxembourg Luxembourg
URL:https://www.uni.lu/en/events/breathing-underwater-a-film-by-eric-lamhene/
X-MS-OLK-AUTOFILLLOCATION:FALSE
END:VEVENT
END:VCALENDAR