BEGIN:VCALENDAR
METHOD:PUBLISH
VERSION:2.0
BEGIN:VEVENT
DTSTART:20240423T183000
DTEND:20240423T200000
DTSTAMP:20260424T015300
SUMMARY:Breaking Barriers. Recognising Transgender Voices.
DESCRIPTION:On 31 March 2024, we commemorate the 15th annual International Transgender Day of Visibility, a pivotal occasion dedicated to spotlighting the journeys, obstacles, and victories of transgender individuals globally. Join us at the University of Luxembourg on 23 April as we listen to the courageous narratives and profound insights shared by both staff and students. The event commences at 18.30 on Belval Campus.\n\nIn a world where transphobia persists and discrimination threatens the rights of transgender people, this day holds even greater significance. Shockingly, recent studies indicate that 42% of transgender adults in the US have attempted suicide (Source: Williams Institute UCLA) — a staggering statistic that underscores the urgent need for societal support and acceptance. Additionally, transgender individuals often struggle with poor mental health due to societal constraints that prevent them from authentically expressing their identities.\n\nLocation: https://www.uni.lu/en/about/campuses/belval-campus/\nRead more: https://www.uni.lu/en/events/breaking-barriers-recognising-transgender-voices/
UID:UL-24320
LOCATION:Maison des Arts et des Etudiants - room 1.020 and 1.03 (Belval Campus) 6 - avenue de la Fonte 4364 Esch-sur-Alzette Luxembourg
URL:https://www.uni.lu/en/events/breaking-barriers-recognising-transgender-voices/
X-MS-OLK-AUTOFILLLOCATION:FALSE
END:VEVENT
END:VCALENDAR