BEGIN:VCALENDAR
METHOD:PUBLISH
VERSION:2.0
BEGIN:VEVENT
DTSTART:20240531T120000
DTEND:20240531T180000
DTSTAMP:20260423T214100
SUMMARY:Bike Day
DESCRIPTION:Join the University's Bike Day! \n\nThe Sustainability Team and the Student Department invite you to the Bike Day. You'll have the opportunity to get your bike checked after the long winter season or take advantage of the repair café to fix or learn how to fix a bike. If you're not familiar with bikes, no worries! We will also offers a Bike School, where you can learn how to ride.\n\nAnd to top it all off, the Student Bike Club has planned a lovely bike ride around Belval!\n\nFeel free to contact us via unilu.sustainability@uni.lu or osl@uni.lu if you need more information.\n\nThis event is co-organised by the Student Department and the Sustainability Team of the University of Luxembourg.\n\nLocation: https://maps.app.goo.gl/zmCRHHK2iedA2Gw6A\nRead more: https://www.uni.lu/en/events/bike-day/
UID:UL-25938
LOCATION:Student Lounge - Belval Campus 4365 Belval Luxembourg
URL:https://www.uni.lu/en/events/bike-day/
X-MS-OLK-AUTOFILLLOCATION:FALSE
END:VEVENT
END:VCALENDAR