BEGIN:VCALENDAR
METHOD:PUBLISH
VERSION:2.0
BEGIN:VEVENT
DTSTART:20250516T123000
DTEND:20250516T133000
DTSTAMP:20260421T063300
SUMMARY:Allyship in times of uncertainty
DESCRIPTION:How universities and research institutes can keep up with safeguarding and advancing equal opportunities and belonging\n\nJoin us for this round table where the challenges facing universities to support individuals in terms of diversity and inclusion will be unraveled.\n\nThis event is sponsored by the gender equality office to mark the International Day Against Homophobia, Transphobia, and Biphobia (IDAHOBIT) as well as the National Day of Diversity.\n\nSpeakers\n\nRebecca Teferle, Professor in Geodesy, FSTM\n\nJoella Van Donkersgoed, Postdoctoral Researcher, C²DH\n\nAndy Adams, Alumni relations specialist\n\nEli Schreck, doctoral candidate, FSTM\n\nStefan Capitanescu, representant of the student delegation\n\nLocation: https://unilu.webex.com/wbxmjs/joinservice/sites/unilu-fr/meeting/download/e5d53de057ac4a72a6dccb3f2af32ef7?siteurl=unilu-fr&MTID=m38dd14251660e4b7111f4a2df5f0b46b\nRead more: https://www.uni.lu/en/events/allyship-in-times-of-uncertainty/
UID:UL-45184
LOCATION:Webex
URL:https://www.uni.lu/en/events/allyship-in-times-of-uncertainty/
X-MS-OLK-AUTOFILLLOCATION:FALSE
END:VEVENT
END:VCALENDAR