BEGIN:VCALENDAR
METHOD:PUBLISH
VERSION:2.0
BEGIN:VEVENT
DTSTART:20250910T170000
DTEND:20250910T183000
DTSTAMP:20260423T150300
SUMMARY:AI Café Brainstorm Meeting: Are you ready for a precision/personalised medicine?
DESCRIPTION:Join the AI Café 2025 Brainstorm Meeting about a precision/personalised medicine!\n\nAre you passionate about the future of Artificial Intelligence? Do you want to shape ideas, connect with experts, and contribute to meaningful discussions? Then don’t miss the AI Café 2025 Brainstorm Meetings — a series of dynamic, virtual gatherings designed to discuss selected flagship projects, which are mentioned in the Government’s AI strategy paper! The first one will take place on 10 September, on the topic of precision/personalised medicine, related to the Flagship Project "Precision medicine - AI readiness for precision medicine" (page 48 of the Government’s AI strategy).\n\nWhat to expect at this Brainstorm Meeting?\n\nEach Brainstorm Meeting is a 90-minute online session featuring invited experts, open discussions, and the opportunity to co-create ideas that could influence the future of AI in society.\n\nThe topic\n\nAI has the potential to transform healthcare by supporting early diagnosis, personalizing treatment and improving access. AI can help doctors make better decisions, speed up diagnoses and tailor treatments to individual patients.\n\nBut how can this be achieved?\n\nHow comfortable are you with AI supporting medical decisions?\n\nWhat are your priorities when it comes to privacy and data security in health?\n\nHow can AI improve healthcare access and equity for all residents?\n\nWhat should AI never replace in the doctor-patient relationship?\n\nHow can we balance innovation with ethics, data protection and trust? \n\nMeet the speakers\n\nProf. Dr. Rudi Balling\n\nUniversity of Bonn\n\nDr. Catherine Larue\n\nConsulting in Healthtech, Biotech and Medical Diagnostic\n\nMeet the host\n\nAssoc. Prof Christoph SCHOMMER\n\nAssociate professor in Artificial Intelligence\n\nLearn more\n\nSave the date!\n\nonline\n\nNo conference fees\n\nRegistration mandatory\n\n10 September 2025\n\nEnglish, French, German\n\nRegister\n\nRegistration is mandatory to attend the meeting. Contact the organisers via email:\n\nRead more: https://www.uni.lu/en/events/ai-cafe-brainstorm-meeting-luxembourg-ai-strategy/
UID:UL-45740
LOCATION:Online - Registration mandatory
URL:https://www.uni.lu/en/events/ai-cafe-brainstorm-meeting-luxembourg-ai-strategy/
X-MS-OLK-AUTOFILLLOCATION:FALSE
END:VEVENT
END:VCALENDAR