BEGIN:VCALENDAR
METHOD:PUBLISH
VERSION:2.0
BEGIN:VEVENT
DTSTART:20251008T170000
DTEND:20251008T183000
DTSTAMP:20260423T064200
SUMMARY:AI Café Brainstorm Meeting - AI in education &amp; skills for the future
DESCRIPTION:Join the AI Café 2025 Brainstorm Meeting about AI in education & skills for the future!\n\nAre you passionate about the future of Artificial Intelligence? Do you want to shape ideas, connect with experts, and contribute to meaningful discussions? Then don’t miss the AI Café 2025 Brainstorm Meetings — a series of dynamic, virtual gatherings designed to discuss selected flagship projects, which are mentioned in the Government’s AI strategy paper! The second one will take place on 8 October, on the topic of AI in education & skills for the future, in relation to the Flagship Project "Education - a sovereign AI chatbot for education" (page 50 of the Government’s AI strategy).\n\nWhat to expect at this Brainstorm Meeting?\n\nEach Brainstorm Meeting is a 90-minute online session featuring invited experts, open discussions, and the opportunity to co-create ideas that could influence the future of AI in society.\n\nThe topic\n\nAI is changing how we learn and work, so what should students, pupils, employees, workers learn to thrive in an AI-driven world? And what skills will we tomorrow need? How can AI support personalised learning and lifelong education in Luxembourg?\n\nWhat skills do you think are essential in an AI-driven world?\n\nHow can AI support teachers, students, and lifelong learners?\n\nWhat challenges or risks do you see in using AI in education?\n\nHow should the education system involve citizens in AI-related decisions?\n\nOn this meeting, we will explore how AI can transform education and training. From personalised learning paths to new skills for the AI economy. Join the conversation and help shape the future of education.\n\nMeet the speakers\n\nProf. Dr. Charles Lang\n\nColumbia University, Digital Futures Institute, Teacher's College, New York\n\nDr Serge Linckels\n\nDigital Learning Hub\n\nMeet the host\n\nAssoc. Prof Christoph SCHOMMER\n\nAssociate professor in Artificial Intelligence\n\nLearn more\n\nSave the date!\n\nonline\n\nNo conference fees\n\nRegistration mandatory\n\n8 October 2025\n\nEnglish, French, German\n\nRegister\n\nRegistration is mandatory to attend the meeting. Contact the organisers via email:\n\nRead more: https://www.uni.lu/en/events/ai-cafe-brainstorm-meeting-luxembourg-ai-strategy-2/
UID:UL-45748
LOCATION:Online - Registration mandatory
URL:https://www.uni.lu/en/events/ai-cafe-brainstorm-meeting-luxembourg-ai-strategy-2/
X-MS-OLK-AUTOFILLLOCATION:FALSE
END:VEVENT
END:VCALENDAR