BEGIN:VCALENDAR
METHOD:PUBLISH
VERSION:2.0
BEGIN:VEVENT
DTSTART:20251215T133000
DTEND:20251215T150000
DTSTAMP:20260420T053100
SUMMARY:2026 Marie Speyer Grants Info Session I
DESCRIPTION:Join our online info session for the 2026 Marie Speyer Excellence (MSE) Grants\n\nWe invite all interested candidates to join our online information sessions to learn more about the 2026 Marie Speyer Excellence Grants (MSE).\n\nThere will be two sessions: one on 15 December 2025 (at 13.30) and another on 8 January 2026 (at 9.30). The sessions will be held online via Teams and are open to university staff.\n\nDuring these sessions, our team will be available to answer any questions you may have about the application process, eligibility criteria, and the benefits of the grants.\n\nLocation: https://eur01.safelinks.protection.outlook.com/ap/t-59584e83/?url=https%3A%2F%2Fteams.microsoft.com%2Fl%2Fmeetup-join%2F19%253ameeting_MWZkZWFiOTctYmI3OC00NDhkLWEzYjgtYTQ3NTBjNWQ0Mzdi%2540thread.v2%2F0%3Fcontext%3D%257b%2522Tid%2522%253a%2522445a9c95-0f9d-4953-9db1-bc4a45dd1220%2522%252c%2522Oid%2522%253a%2522fae65486-6f87-4898-b066-f6ad207656a3%2522%257d&data=05%7C02%7Cines.crisostomo%40uni.lu%7C1716592b010241e6f8be08ddcf68dcb5%7C445a9c950f9d49539db1bc4a45dd1220%7C0%7C0%7C638894771738314245%7CUnknown%7CTWFpbGZsb3d8eyJFbXB0eU1hcGkiOnRydWUsIlYiOiIwLjAuMDAwMCIsIlAiOiJXaW4zMiIsIkFOIjoiTWFpbCIsIldUIjoyfQ%3D%3D%7C0%7C%7C%7C&sdata=Y8SPQ9SNsYNVKrKEGz%2FZDP%2FN3%2BYFEh0ibaz3iLLtYVA%3D&reserved=0\nRead more: https://www.uni.lu/en/events/2026-marie-speyer-grants-info-session-i/
UID:UL-53876
LOCATION:Teams Meeting
URL:https://www.uni.lu/en/events/2026-marie-speyer-grants-info-session-i/
X-MS-OLK-AUTOFILLLOCATION:FALSE
END:VEVENT
END:VCALENDAR