BEGIN:VCALENDAR
METHOD:PUBLISH
VERSION:2.0
BEGIN:VEVENT
DTSTART:20250110T093000
DTEND:20250110T110000
DTSTAMP:20260421T103400
SUMMARY:2025 Marie Speyer Grants Info Session II
DESCRIPTION:Join Our Online Info Session for the 2025 Marie Speyer Excellence (MSE) Grants\n\nWe invite all interested candidates to join our online information sessions to learn more about the 2025 Marie Speyer Excellence Grants (MSE).\n\nThere will be two sessions: one on 12 December 2024 and another on 10 January 2025, at 9:30. The sessions will be held online via Webex and open to university staff.\n\nDuring these sessions, our team will be available to answer any questions you may have about the application process, eligibility criteria, and the benefits of the grants.\n\nLocation: https://unilu.webex.com/unilu/j.php?MTID=m1ac69f665702e73ea579ea3347c36dae\nRead more: https://www.uni.lu/en/events/2025-marie-speyer-grants-info-session-ii/
UID:UL-38384
LOCATION:Webex
URL:https://www.uni.lu/en/events/2025-marie-speyer-grants-info-session-ii/
X-MS-OLK-AUTOFILLLOCATION:FALSE
END:VEVENT
END:VCALENDAR