BEGIN:VCALENDAR
METHOD:PUBLISH
VERSION:2.0
BEGIN:VEVENT
DTSTART:20241212T093000
DTEND:20241212T110000
DTSTAMP:20260423T023400
SUMMARY:2025 Marie Speyer Grants Info Session I
DESCRIPTION:Join our online info session for the 2025 Marie Speyer Excellence (MSE) Grants\n\nWe invite all interested candidates to join our online information sessions to learn more about the 2025 Marie Speyer Excellence Grants (MSE).\n\nThere will be two sessions: one on 12 December 2024 and another on 10 January 2025, both at 9.30. The sessions will be held online via Webex and are open to university staff.\n\nDuring these sessions, our team will be available to answer any questions you may have about the application process, eligibility criteria, and the benefits of the grants.\n\nLocation: https://unilu.webex.com/unilu/j.php?MTID=m884122074e8a40bbac37371a1ae5bb1f\nRead more: https://www.uni.lu/en/events/2025-marie-speyer-grants-info-session-i/
UID:UL-38360
LOCATION:Webex Meeting
URL:https://www.uni.lu/en/events/2025-marie-speyer-grants-info-session-i/
X-MS-OLK-AUTOFILLLOCATION:FALSE
END:VEVENT
END:VCALENDAR