BEGIN:VCALENDAR
METHOD:PUBLISH
VERSION:2.0
BEGIN:VEVENT
DTSTART:20260314T090000
DTEND:20260314T170000
DTSTAMP:20260419T165600
SUMMARY:Tag der offenen Tür - Open Day 2026
DESCRIPTION:Entdecke die Universität Luxemburg am Tag der offenen Tür!\n\nDer Tag der offenen Tür lädt alle Studieninteressierten und ihre Familien sowie die breite Öffentlichkeit ein, in die pulsierende Welt der Universität Luxemburg einzutauchen. Diese Veranstaltung bietet eine einmalige Gelegenheit, eine Vielzahl von Studienprogrammen zu entdecken und unsere bahnbrechenden Forschungsaktivitäten zu erkunden.\n\nOrt: https://www.uni.lu/de/ueber-uns/campusse/campus-belval/\nMehr erfahren: https://www.uni.lu/de/events/tag-der-offenen-tuer/
UID:UL-3445
LOCATION:Campus Belval 4365 Esch-sur-Alzette Luxembourg
URL:https://www.uni.lu/de/events/tag-der-offenen-tuer/
X-MS-OLK-AUTOFILLLOCATION:FALSE
END:VEVENT
END:VCALENDAR