BEGIN:VCALENDAR
METHOD:PUBLISH
VERSION:2.0
BEGIN:VEVENT
DTSTART:20240326T090000
DTEND:20240327T180000
DTSTAMP:20260425T135300
SUMMARY:Ukrainian Studies Across the Borders
DESCRIPTION:Українська версія нижче\n\n"Ukrainian Studies Across the Borders" is a joint conference of the newly started U-CORE project at the C²DH and UNDIPUS project of the University Greifswald, an international event dedicated to Ukrainian studies beyond traditional Ukrainistics. This two-day interdisciplinary conference, taking place on 26 and 27 March 2024, will explore a wide range of topics from psychology and digital humanities to postindustrialism and language studies, shedding light on the rich and complex history and culture, as well as the current war and research approaches to contemporary Ukraine. Highlights include sessions on trauma, heroism, and war; digital practices of freedom during conflict and digital archiving of oral history; and the intersection of minority languages and education. With distinguished speakers and innovative research, this conference promises to offer profound insights into Ukrainian studies across the borders.\n\nThe conference language is English.\n\nQuestions during the discussions are also possible in Ukrainian, Luxembourgish, German and French.\n\nRegistration is obligatory until 6 March 2024.\n\nEnglish version above\n\n"Ukrainian Studies Across the Borders" - це спільна конференція новоствореного проєкту U-CORE в C2DH та проєкту UNDIPUS Університету Грайфсвальда, міжнародний захід, присвячений україністиці поза межами традиційної україністики. Ця дводенна міждисциплінарна конференція, що відбудеться 26 та 27 березня 2024 року, досліджуватиме широкий спектр тем від психології та цифрових гуманітарних наук до постіндустріалізму та мовознавства, проливаючи світло на багату та складну історію та культуру, а також на поточну війну та дослідницькі підходи до сучасної України. Серед основних тем - травма, героїзм і війна; цифрові практики свободи під час конфлікту та цифрове архівування усної історії; а також перетин мов меншин та освіти. Завдяки видатним доповідачам та інноваційним дослідженням ця конференція обіцяє запропонувати глибоке розуміння українознавчих студій через кордони.\n\nРобоча мова конференції - англійська.\n\nПитання під час дискусій також можна ставити українською, люксембурзькою, німецькою та французькою мовами.\n\nРеєстрація обов'язкова до 6 березня 2024 року.\n\nProgramme\n\n9.00\n\nWelcome and Opening Remarks\n\n9.15\n\nPsychology\n\nModerator Dr. Vitalii KLYMCHUK\n\nTrauma, Heroism, and War\nJP Dr. Roman DUBASEVYCH (Greifswald)\n\nMental Health for Ukraine\nProf. Dr. Viktoria GORBUNOVA (Luxembourg)\n\n10.45\n\nCoffee break\n\n11.00\n\nIdentities and Freedomy\n\nModerator Prof. Dr. Alexey ALEKSANDROV\n\nDelineating a Digital-Scape: A Critical Practice of Freedom during the Russian War in Ukraine\nKseniia FEDOROVA (Luxembourg)\n\nSexual Citizenship and Borders-Crossing\nDr. Olga PLAKHOTNIK (Greifswald)\n\n12.30\n\nLunch break\n\n14.00\n\nUkraine Studies Digital\n\nModerator Dr. Kateryna ZAKHARCHUK\n\nArchitecture of the Project “Ukraine. Collecting. Recording” (U-CORE)\nProf. Dr. Machteld VENKEN (Luxembourg)\n\nVYSH-project: AI Generated Embroideries for Ukrainian Dancing Costumes\nDr. Inna GANSCHOW (Luxembourg)\n\n15.30\n\nExсursion around Belval\n\n9.00\n\nPostindustrialism\n\nModerator: Dr. Oleksiy KIRYUKHIN\n\nExploring Anthropocene Perspectives on the Donbas(s) and Upper Silesia\nDr. Oleksandr ZABIRKO and Dr. Alina STRZEMPA (Regensburg)\n\nUkrainian Writers at War as Gender Models Abroad: Andrukhovych, Zabuzhko and Nadiia Savchenko in Poland\nDr. Alexander CHERTENKO (Giessen)\n\n10.30\n\nCoffee break\n\n10.45\n\nLanguage and history\n\nModerator Dr. Olga KRYVETS (Luxembourg)\n\nMinority Languages and Education in Bessarabia\nPD Dr.Martin HENZELMANN (Greifswald)\n\nUkrainian-Luxembourg Historical research: invariance of subjects and difference in approaches. Case study\nDr. Iryna POGREBINSKA (Luxembourg)\n\nAndriy Melnyk: Additional Features to the Historical Portrait\nDr. Zhanna SERDIUK\n\n12.15\n\nLunch break\n\n13.30\n\nFilm “Luxembourg, Luxembourg”\n\n15.00\n\nFilm Discussion and Plenary Session\n\n16.00\n\nCity tour of Luxembourg (2 hours)\n\nRead more: https://www.uni.lu/c2dh-en/events/ukrainian-studies-across-the-borders/
UID:UL-2457
LOCATION:Maison du Savoir Room 3.220 2 - Place de l'Université 4365 Esch-sur-Alzette Luxembourg
URL:https://www.uni.lu/c2dh-en/events/ukrainian-studies-across-the-borders/
X-MS-OLK-AUTOFILLLOCATION:FALSE
END:VEVENT
END:VCALENDAR