BEGIN:VCALENDAR
METHOD:PUBLISH
VERSION:2.0
BEGIN:VEVENT
DTSTART:20240221T140000
DTEND:20240221T150000
DTSTAMP:20260425T132500
SUMMARY:Advertising &amp; popularizing media artifacts in Germany, France, and Luxembourg in the «long» 1960s
DESCRIPTION:Research seminar with Matthias Höfer.\n\nThe «long» 1960s in Western Europe saw a dynamic development of mass consumption, especially in the field of consumer electronics. Media artifacts, such as transistor radios, television sets, or cassette recorders all became significantly more common in Luxembourg, France, and Germany, influencing the composition of the media ensemble and opening up new ways for consumers to interact with media. In a concomitant development brought about by the new market conditions, companies producing such media artifacts – such as Braun or Telefunken – became increasingly interested in marketing, placing consumers and their desires at the center of their considerations in lieu of production.\n\nUsing internal company documents, advertisements and statistics as sources, this research traces how and at what scale producing companies used advertising and other marketing measures to popularize media artifacts in the «long» 1960s and how these efforts interrelated with the media ensemble. This project is part of Popkult60.\n\nRead more: https://www.uni.lu/c2dh-en/events/advertising-popularizing-media-artifacts-in-germany-france-and-luxembourg-in-the-long-1960s/
UID:UL-2137
LOCATION:C²DH Open Space 11 - Porte des Sciences 4366 Esch-sur-Alzette Luxembourg
URL:https://www.uni.lu/c2dh-en/events/advertising-popularizing-media-artifacts-in-germany-france-and-luxembourg-in-the-long-1960s/
X-MS-OLK-AUTOFILLLOCATION:FALSE
END:VEVENT
END:VCALENDAR